BEGIN:VCALENDAR
VERSION:2.0
PRODID:-//Tukios.com/
BEGIN:VEVENT
UID:e938deb9-4be4-4ae8-bba4-d5ddee09e544@www.panebakerfuneralhome.com
DTSTAMP:20260423T230104Z
DTSTART:20260428T140000Z
DTEND:20260428T150000Z
SUMMARY:Viewing
DESCRIPTION:
URL:https://www.panebakerfuneralhome.com/obituaries/wilson-jerry-bishop
LOCATION:Panebaker Funeral Home & Cremation Care Center, Inc. 311 
	Broadway  Hanover PA 17331
GEO:39.8039945;-76.9805914
END:VEVENT
END:VCALENDAR