BEGIN:VCALENDAR
VERSION:2.0
PRODID:-//Tukios.com/
BEGIN:VEVENT
UID:e64ee3a0-9cf6-4a7b-af98-0ac677eb3a8a@www.panebakerfuneralhome.com
DTSTAMP:20260423T230145Z
DTSTART:20260428T150000Z
DTEND:20260428T160000Z
SUMMARY:Funeral Service
DESCRIPTION:
URL:https://www.panebakerfuneralhome.com/obituaries/wilson-jerry-bishop
LOCATION:Panebaker Funeral Home & Cremation Care Center, Inc. 311 
	Broadway  Hanover PA 17331
GEO:39.8039945;-76.9805914
END:VEVENT
END:VCALENDAR