BEGIN:VCALENDAR
VERSION:2.0
PRODID:-//Tukios.com/
BEGIN:VEVENT
UID:983172d4-037c-43d8-a3e1-e13d7e3cd22b@www.panebakerfuneralhome.com
DTSTAMP:20260423T081823Z
DTSTART:20260420T150000Z
DTEND:20260420T160000Z
SUMMARY:Funeral Service
DESCRIPTION:
URL:https://www.panebakerfuneralhome.com/obituaries/marlene-strickler
LOCATION:Panebaker Funeral Home & Cremation Care Center Inc. 311 Broadway 
	 Hanover PA 17331
GEO:39.8039945;-76.9805914
END:VEVENT
END:VCALENDAR