BEGIN:VCALENDAR
VERSION:2.0
PRODID:-//Tukios.com/
BEGIN:VEVENT
UID:a31c3c49-c8d8-4edc-be3c-103d7a3ff651@www.panebakerfuneralhome.com
DTSTAMP:20260425T174615Z
DTSTART:20260725T150000Z
DTEND:20260725T160000Z
SUMMARY:Graveside Service
DESCRIPTION:
URL:https://www.panebakerfuneralhome.com/obituaries/dr-pete-soule
LOCATION:Mount Olivet Cemetery 725 Baltimore Street  Hanover PA 17331
GEO:39.7886054;-76.9736672
END:VEVENT
END:VCALENDAR